BEGIN:VCALENDAR
VERSION:2.0
PRODID:-//Ventura County Health Care Agency - ECPv6.15.20//NONSGML v1.0//EN
CALSCALE:GREGORIAN
METHOD:PUBLISH
X-ORIGINAL-URL:https://hca.venturacounty.gov
X-WR-CALDESC:Events for Ventura County Health Care Agency
REFRESH-INTERVAL;VALUE=DURATION:PT1H
X-Robots-Tag:noindex
X-PUBLISHED-TTL:PT1H
BEGIN:VTIMEZONE
TZID:America/Los_Angeles
BEGIN:DAYLIGHT
TZOFFSETFROM:-0800
TZOFFSETTO:-0700
TZNAME:PDT
DTSTART:20240310T100000
END:DAYLIGHT
BEGIN:STANDARD
TZOFFSETFROM:-0700
TZOFFSETTO:-0800
TZNAME:PST
DTSTART:20241103T090000
END:STANDARD
BEGIN:DAYLIGHT
TZOFFSETFROM:-0800
TZOFFSETTO:-0700
TZNAME:PDT
DTSTART:20250309T100000
END:DAYLIGHT
BEGIN:STANDARD
TZOFFSETFROM:-0700
TZOFFSETTO:-0800
TZNAME:PST
DTSTART:20251102T090000
END:STANDARD
BEGIN:DAYLIGHT
TZOFFSETFROM:-0800
TZOFFSETTO:-0700
TZNAME:PDT
DTSTART:20260308T100000
END:DAYLIGHT
BEGIN:STANDARD
TZOFFSETFROM:-0700
TZOFFSETTO:-0800
TZNAME:PST
DTSTART:20261101T090000
END:STANDARD
END:VTIMEZONE
BEGIN:VEVENT
DTSTART;TZID=America/Los_Angeles:20250424T114300
DTEND;TZID=America/Los_Angeles:20250424T131200
DTSTAMP:20260422T191040
CREATED:20250325T232633Z
LAST-MODIFIED:20250325T232641Z
UID:1613-1745494980-1745500320@hca.venturacounty.gov
SUMMARY:Fremont Wellness Fair
DESCRIPTION:04.24.2025 Fremont Wellness Fair-1
URL:https://hca.venturacounty.gov/event/fremont-wellness-fair/
LOCATION:Fremont School\, 1130 N M. Street Oxnard\, CA 93030
END:VEVENT
BEGIN:VEVENT
DTSTART;TZID=America/Los_Angeles:20250424T170000
DTEND;TZID=America/Los_Angeles:20250424T183000
DTSTAMP:20260422T191040
CREATED:20250327T220759Z
LAST-MODIFIED:20250327T220759Z
UID:1634-1745514000-1745519400@hca.venturacounty.gov
SUMMARY:Marina West Elementary Open House
DESCRIPTION:04.24.2025 Marina West Elementary Open House
URL:https://hca.venturacounty.gov/event/marina-west-elementary-open-house/
LOCATION:Marina West Elementary School\, 2501 Carob St Oxnard\, CA 93035
END:VEVENT
END:VCALENDAR